BEGIN:VCALENDAR
VERSION:2.0
PRODID:-//Katholische Kirchengemeinde Maria Frieden Krefeld//NONSGML kigkonsult.se iCalcreator 2.41.92//
CALSCALE:GREGORIAN
METHOD:PUBLISH
UID:62316237-6533-4131-b061-623463366361
X-WR-CALNAME:iCagenda
X-WR-CALDESC:Event Management Extension for Joomla!
X-WR-RELCALID:3E26604A-50F4-4449-8B3E-E4F4932D05B5
X-WR-TIMEZONE:Europe/Berlin
BEGIN:VTIMEZONE
TZID:Europe/Berlin
TZUNTIL:20241027T010000Z
BEGIN:STANDARD
TZNAME:CET
DTSTART:20221030T030000
TZOFFSETFROM:+0200
TZOFFSETTO:+0100
RDATE:20231029T030000
END:STANDARD
BEGIN:DAYLIGHT
TZNAME:CEST
DTSTART:20230326T020000
TZOFFSETFROM:+0100
TZOFFSETTO:+0200
RDATE:20240331T020000
END:DAYLIGHT
END:VTIMEZONE
BEGIN:VEVENT
UID:66386431-3437-4364-b237-666437333037
DTSTAMP:20260422T090533Z
CATEGORIES:Kirchenchor St. Clemens
CLASS:PUBLIC
DESCRIPTION:
DTSTART:20230419T173000Z
DTEND:20230419T173000Z
GEO:00;0
LOCATION:Clemenssaal\, Clemensplatz 1a\, 47807 Krefeld
ORGANIZER;CN=:mailto:ilau@arcor.de
SEQUENCE:1
SUMMARY:Chorprobe
TRANSP:OPAQUE
URL:https://www.maria-frieden-krefeld.de/component/icagenda/109-chorprobe-9
 /2023-04-19-19-30
END:VEVENT
END:VCALENDAR
